BEGIN:VCALENDAR
VERSION:2.0
PRODID:-//4 Peaks Racing - ECPv6.1.3//NONSGML v1.0//EN
CALSCALE:GREGORIAN
METHOD:PUBLISH
X-ORIGINAL-URL:https://4peaksracing.com
X-WR-CALDESC:Events for 4 Peaks Racing
REFRESH-INTERVAL;VALUE=DURATION:PT1H
X-Robots-Tag:noindex
X-PUBLISHED-TTL:PT1H
BEGIN:VTIMEZONE
TZID:America/Phoenix
BEGIN:STANDARD
TZOFFSETFROM:-0700
TZOFFSETTO:-0700
TZNAME:MST
DTSTART:20260101T000000
END:STANDARD
END:VTIMEZONE
BEGIN:VEVENT
DTSTART;TZID=America/Phoenix:20260103T090000
DTEND;TZID=America/Phoenix:20260103T090000
DTSTAMP:20260421T052925
CREATED:20250721T154400Z
LAST-MODIFIED:20251219T201924Z
UID:8666-1767430800-1767430800@4peaksracing.com
SUMMARY:Scarface Mountain Trail Run
DESCRIPTION:Welcome to The Inaugural Scarface Mountain Trail Run 10k\, 5k (3.35 miles)\, and 1 mile fun run. The race is at Usery Mountain Regional Park\, Saturday January 3rd.  We will be donating 100% of registration fees to charity.  50% will be going to Mesa United Way-Foster360\, and 50% will be going to the Charitable Foundation of the Rotary Club of Mesa. \nCome and experience some Wild West Arizona History. January 5th\, 1892 near these desert trails\, two men named King Usery and Henry Blevins robbed the Globe-Florence stage\, stealing the silver bars being transported inside the stagecoach.  You will be running under Pass Mountain (also known as ‘Scarface Mountain’) inside Usery Mountain Regional Park\, and run on Blevins Trail. If a runner returns any stolen silver\, they might just be given a reward! \nPacket Pickup will be Friday January 2nd\nForward Footwear and Fitness\n2837 N Power Rd Unit 110-111\nMesa\, AZ 85215\n12:00pm-6:00pm \nRACE TIMING\nThis race will be chip timed using disposable chip technology by RFID Timing. Timing chips are on race bibs and should be worn over your navel. \nRACE WEBSITE\n4 Peaks Racing is providing timing for this event. For event details please CLICK HERE \n10K Trail Run: 9:00 AM\n$50 Early Registration\, $55 after December 1st 2025\nhttps://www.strava.com/routes/3362874730678456948 \n5K (3.35miles) Trail Run: 9:10 AM\n$40 Early Registraion\, $45 after December 1st 2025\nhttps://www.strava.com/routes/3362903011390109300 \n1-Mile Fun Run: 9:15 AM\n$20 Early Registraion\, $25 after December 1st\, 2025\nhttps://www.strava.com/routes/3381811717086175746 \nTop Male and Female Finisher in the 10k will receive a prize.\nTop Male and Femaile Finisher in the 5k (3.35mile) will receive a prize.\nPacket Pickup TBD\nAll runners will receive a race shirt at packet pickup.\nAll finishers will receive a finisher pint glass with race logo.
URL:https://4peaksracing.com/events/scarface-mountain-trail-run-2026/
LOCATION:Usery Mountain Regional Park\, 3939 N Usery Pass Rd\, Mesa\, AZ\, 85207\, United States
CATEGORIES:Timing
ATTACH;FMTTYPE=image/png:https://4peaksracing.com/wp-content/uploads/2025/07/Scarface-Mountain-Trail-Run.png
END:VEVENT
BEGIN:VEVENT
DTSTART;TZID=America/Phoenix:20260110T081500
DTEND;TZID=America/Phoenix:20260110T081500
DTSTAMP:20260421T052925
CREATED:20250808T225417Z
LAST-MODIFIED:20250808T225417Z
UID:8697-1768032900-1768032900@4peaksracing.com
SUMMARY:City of Yuma Rock the Jukebox 5km & 10km
DESCRIPTION:Post holiday blues? Dance and run them off to the rocking music of the jukebox era. \nEVENT WEBSITE\n4 Peaks Racing is providing timing for this event. For event details please CLICK HERE \nRACE TIMING\nThis race will be chip timed using disposable chip technology by RFID Timing. Timing chips are on the reverse side of your race number. Race numbers should be worn the correct way up\, pinned to the front of your shirt and worn over your belly button.
URL:https://4peaksracing.com/events/jukebox-2026/
LOCATION:West Wetlands\, 282 N 12th Ave\, Yuma\, 85364\, United States
CATEGORIES:Timing
ATTACH;FMTTYPE=image/jpeg:https://4peaksracing.com/wp-content/uploads/2024/08/yuma-parks-and-rec.jpg
END:VEVENT
BEGIN:VEVENT
DTSTART;TZID=America/Phoenix:20260221T081500
DTEND;TZID=America/Phoenix:20260221T081500
DTSTAMP:20260421T052925
CREATED:20250808T225810Z
LAST-MODIFIED:20250814T233214Z
UID:8699-1771661700-1771661700@4peaksracing.com
SUMMARY:City of Yuma Fiesta de 5km & 10km
DESCRIPTION:Our 2025-2026 run season may be coming to an end\, but the fiesta doesn’t! After the run\, be sure to grab some chips and salsa and celebrate a successful run! \nEVENT WEBSITE\n4 Peaks Racing is providing timing for this event. For event details please CLICK HERE \nRACE TIMING\nThis race will be chip timed using disposable chip technology by RFID Timing. Timing chips are on the reverse side of your race number. Race numbers should be worn the correct way up\, pinned to the front of your shirt and worn over your belly button.
URL:https://4peaksracing.com/events/fiesta-2026/
LOCATION:West Wetlands\, 282 N 12th Ave\, Yuma\, 85364\, United States
CATEGORIES:Timing
ATTACH;FMTTYPE=image/jpeg:https://4peaksracing.com/wp-content/uploads/2024/08/yuma-parks-and-rec.jpg
END:VEVENT
BEGIN:VEVENT
DTSTART;TZID=America/Phoenix:20260321T080000
DTEND;TZID=America/Phoenix:20260321T080000
DTSTAMP:20260421T052925
CREATED:20260120T185355Z
LAST-MODIFIED:20260309T192710Z
UID:8970-1774080000-1774080000@4peaksracing.com
SUMMARY:AIDS Walk Arizona & 5k Run
DESCRIPTION:RACE TIMING\nThis race will be chip timed using disposable chip technology by RFID Timing. Timing chips are on race bibs and should be worn over your navel. \nRACE WEBSITE\n4 Peaks Racing is providing timing for this event. For event details please CLICK HERE
URL:https://4peaksracing.com/events/aids-walk-2026/
LOCATION:Steele Indian School Park\, 300 E. Indian School Rd.\, Phoenix\, AZ\, 85012\, United States
CATEGORIES:Timing
ATTACH;FMTTYPE=image/png:https://4peaksracing.com/wp-content/uploads/2025/01/awa_logo.png
END:VEVENT
BEGIN:VEVENT
DTSTART;TZID=America/Phoenix:20260411T070000
DTEND;TZID=America/Phoenix:20260411T070000
DTSTAMP:20260421T052925
CREATED:20260302T190142Z
LAST-MODIFIED:20260407T232825Z
UID:8986-1775890800-1775890800@4peaksracing.com
SUMMARY:
DESCRIPTION:
URL:https://4peaksracing.com/events/gila-hank-2026/
LOCATION:Eastern Arizona College\, 615 N Stadium Ave\, Thatcher\, AZ\, 85552\, United States
CATEGORIES:Timing
ATTACH;FMTTYPE=image/jpeg:https://4peaksracing.com/wp-content/uploads/2024/01/https___cdn.evbuc_.com_images_650417209_611280699353_1_original.jpg
END:VEVENT
BEGIN:VEVENT
DTSTART;TZID=America/Phoenix:20260502T080000
DTEND;TZID=America/Phoenix:20260502T080000
DTSTAMP:20260421T052925
CREATED:20260303T001703Z
LAST-MODIFIED:20260303T001703Z
UID:8988-1777708800-1777708800@4peaksracing.com
SUMMARY:Superhero 5km and Fun Run
DESCRIPTION:RACE TIMING\nThis race will be chip timed using disposable chip technology by RFID Timing. Timing chips are on race bibs and should be worn over your navel. \nRACE WEBSITE\n4 Peaks Racing is providing timing for this event. For event details please CLICK HERE
URL:https://4peaksracing.com/events/superhero-5km-and-fun-run/
LOCATION:Gateway Park\, 250 Prison Hill Rd\, Yuma\, AZ\, 85364\, United States
CATEGORIES:Timing
ATTACH;FMTTYPE=image/jpeg:https://4peaksracing.com/wp-content/uploads/2026/03/Untitled.jpg
END:VEVENT
BEGIN:VEVENT
DTSTART;TZID=America/Phoenix:20260530T063000
DTEND;TZID=America/Phoenix:20260530T063000
DTSTAMP:20260421T052925
CREATED:20260120T160148Z
LAST-MODIFIED:20260120T160239Z
UID:8968-1780122600-1780122600@4peaksracing.com
SUMMARY:Deuces Wild Endurance Festival
DESCRIPTION:RACE TIMING\nThis event is timed using equipment by RFID Timing Systems. All participants need to wear a timing chip around their ankle with the Velcro strap provided. The chips are reusable and need to be returned after the event.  \nRACE WEBSITE\n4 Peaks Racing is providing timing for this event. For event details please CLICK HERE
URL:https://4peaksracing.com/events/deuces-wild-2026/
LOCATION:Fool’s Hollow\, Fools Hollow Rd\, Show Low\, AZ\, 85901\, United States
CATEGORIES:Timing
ATTACH;FMTTYPE=image/jpeg:https://4peaksracing.com/wp-content/uploads/2023/01/DW-logo-under-small.jpg
END:VEVENT
BEGIN:VEVENT
DTSTART;TZID=America/Phoenix:20260712T070000
DTEND;TZID=America/Phoenix:20260712T070000
DTSTAMP:20260421T052925
CREATED:20260120T155315Z
LAST-MODIFIED:20260120T155428Z
UID:8962-1783839600-1783839600@4peaksracing.com
SUMMARY:MOUNTAIN MAN TRIATHLONSprint & Olympic
DESCRIPTION:RACE TIMING\nThis event is timed using equipment by RFID Timing Systems. All participants need to wear a timing chip around their ankle with the Velcro strap provided. The chips are reusable and need to be returned after the event. These chips are the athlete’s responsibility and missing chips will be charged to the athletes. \nRACE WEBSITE\n4 Peaks Racing is providing timing for this event. For event details please CLICK HERE
URL:https://4peaksracing.com/events/mountain-man-july-2026/
LOCATION:Lake Mary\, Flagstaff\, United States
CATEGORIES:Timing
ATTACH;FMTTYPE=image/jpeg:https://4peaksracing.com/wp-content/uploads/2026/01/16494_6465.jpg
END:VEVENT
BEGIN:VEVENT
DTSTART;TZID=America/Phoenix:20260816T060000
DTEND;TZID=America/Phoenix:20260816T060000
DTSTAMP:20260421T052925
CREATED:20260120T155752Z
LAST-MODIFIED:20260120T155752Z
UID:8966-1786860000-1786860000@4peaksracing.com
SUMMARY:MOUNTAIN MAN TRIATHLONLong & Olympic
DESCRIPTION:RACE TIMING\nThis event is timed using equipment by RFID Timing Systems. All participants need to wear a timing chip around their ankle with the Velcro strap provided. The chips are reusable and need to be returned after the event. \nRACE WEBSITE\n4 Peaks Racing is providing timing for this event. For event details please CLICK HERE
URL:https://4peaksracing.com/events/mountain-man-august-2026/
LOCATION:Lake Mary\, Flagstaff\, United States
CATEGORIES:Timing
ATTACH;FMTTYPE=image/jpeg:https://4peaksracing.com/wp-content/uploads/2026/01/16494_6465.jpg
END:VEVENT
BEGIN:VEVENT
DTSTART;TZID=America/Phoenix:20260926T063000
DTEND;TZID=America/Phoenix:20260926T063000
DTSTAMP:20260421T052925
CREATED:20260120T190338Z
LAST-MODIFIED:20260120T190338Z
UID:8972-1790404200-1790404200@4peaksracing.com
SUMMARY:MESA SPRINT TRIATHLON
DESCRIPTION:RACE TIMING\nThis event will be chip timed by 4 Peaks Racing using triathlon chips. Lost or unreturned chips will be charged to the athlete. Chips should be worn on your left ankle\, worn from start to finish and must be returned at the finish line. Please DO NOT cut the provided neoprene strap. \nRACE WEBSITE\n4 Peaks Racing is providing timing for this event. For event details please CLICK HERE
URL:https://4peaksracing.com/events/mesa-sprint-triathlon-3/
LOCATION:Skyline Aquatics Center\, 845 South Crismon Rd\, Mesa\, AZ\, 85208\, United States
CATEGORIES:Timing
ATTACH;FMTTYPE=image/jpeg:https://4peaksracing.com/wp-content/uploads/2026/01/16494_6469.jpg
END:VEVENT
BEGIN:VEVENT
DTSTART;TZID=America/Phoenix:20261017T080000
DTEND;TZID=America/Phoenix:20261017T170000
DTSTAMP:20260421T052925
CREATED:20260213T154332Z
LAST-MODIFIED:20260213T154332Z
UID:8981-1792224000-1792256400@4peaksracing.com
SUMMARY:Bare Buns Desert Run
DESCRIPTION:Come and experience the only nude run in AZ! This desert trail 5k will take you around the Shangri La Ranch property; up the hiking trail\, along the dry wash\, and through the majority of the ranch. Racers are encouraged to run with nothing on but tennis shoes\, however nudity is not a requirement. Race registration includes a day visit so plan on spending the day with us to enjoy our pools\, café\, clubhouse\, game room\, more hiking\, and meeting great friends. \nRACE TIMING\nThis event will be chip timed by 4 Peaks Racing using triathlon chips. Lost or unreturned chips will be charged to the athlete. Chips should be worn on your left ankle\, worn from start to finish and must be returned at the finish line. Please DO NOT cut the provided neoprene strap. \nRACE WEBSITE\n4 Peaks Racing is providing timing for this event. For event details please CLICK HERE
URL:https://4peaksracing.com/events/bare-buns-desert-run-2026/
LOCATION:Shangrai La\, 44444 Shangrai La Lane\, New River\, AZ\, 85087\, United States
CATEGORIES:Timing
ATTACH;FMTTYPE=image/jpeg:https://4peaksracing.com/wp-content/uploads/2023/04/banner.jpg
END:VEVENT
BEGIN:VEVENT
DTSTART;TZID=America/Phoenix:20261108T073000
DTEND;TZID=America/Phoenix:20261108T073000
DTSTAMP:20260421T052925
CREATED:20260421T001411Z
LAST-MODIFIED:20260421T001540Z
UID:9098-1794123000-1794123000@4peaksracing.com
SUMMARY:SUN DEVIL TRIATHLON CLASSIC
DESCRIPTION:Sprint Triathlon – 750m swim\, 20km bike\, 5km run \n \nRACER AMENITIES\nEvent t-shirt\nFinisher medal\nPost-race refreshments\nAwards for top 3 per category \nCOST\n$135 to July 31\n$150 August 1-31\n$165 September 1-30\n$180 October 1-31\n$195 November 1-5 \nUSA TRIATHLON\nSun Devil Triathlon Classic is sanctioned by USA Triathlon (USAT)\, the governing body of multisport in North America. One of the many roles played by USAT is that of insurance provider for this race. As such USAT requires that every participant be either (1) an annual member\, or (2) purchase a one-day membership. Memberships can be purchased during online registration. \nPARKING\nPlease note there is no parking directly at the race site. All parking is at least a 1/2 mile walk/ride to/from the race site. Be aware of bike course traffic closures and plan accordingly.\nBest Option – 0.8 Miles to Race Site\nRio Salado/Ash Parking Garage – 201 S Ash Ave\, Tempe AZ 85281 \nBetter Option 0.5 Miles to Race Site\nTempe Town Lake Marina Parking Lot – 550 E Tempe Town Lake Tempe\, AZ 85281.  \nGood Option 1.0 Miles to Race Site\nCity Hall Parking Garage – 117 E 5th St\, Tempe AZ 85281 \nSCHEDULE\nSATURDAY\, NOVEMBER 7\n1400 – 1500: Draft legal clinic (requires a separate registration)\n1500 – 1700: Sun Devil Classic athlete check in*\n1500 – 1600: 750m Swim Course Preview (must check in first and wear your timing chip)\n1600 – 1630: Sun Devil Classic athlete briefing \nSUNDAY\, NOVEMBER 8\n0530 – 0645: Transition open\n0645 – Transition closes\, national anthem and pre-race briefing at swim start\n0653 – Sunrise (November 8)\n0700 – Collegiate men’s club race\n0710 – Collegiate women’s club race\n0720 – Sun Devil Classic men 0-44\n0730 – Sun Devil Classic men 45+\n0740 – Sun Devil Classic women 0-44\n0750 – Sun Devil Classic women 45+\n0930 – Collegiate club awards\n0940 – Sun Devil Classic men’s awards\n0950 – Sun Devil Classic women’s awards \n*Athletes must pick up their own packets and show I.D.\nPlease note that (a) this race is draft legal and aerobars are not allowed\, and (b) age will be calculated as of 12/31/2027\nTop two per age group will receive slots to represent Team USA in Hamburg\, Germany\, Sept. 23 to 27\, 2026 \nRACE TIMING\nThis event will be chip timed by 4 Peaks Racing using triathlon chips. Lost or unreturned chips will be charged to the athlete. Chips should be worn on your left ankle\, worn from start to finish and must be returned at the finish line. Please DO NOT cut the provided neoprene strap. \nAWARDS\nAge group awards will be awarded to the top three male and female finishers per the following age groups:\n10-14\n15-19\n20-24\n25-29\n30-34\n35-39\n40-44\n45-49\n50-54\n55-59\n60-64\n65-69\n70-74\n75-79\n80+
URL:https://4peaksracing.com/events/sun-devil-2026/
LOCATION:AZ
CATEGORIES:Timing
ATTACH;FMTTYPE=image/jpeg:https://4peaksracing.com/wp-content/uploads/2026/04/asu-banner.jpg
END:VEVENT
BEGIN:VEVENT
DTSTART;TZID=America/Phoenix:20270109T090000
DTEND;TZID=America/Phoenix:20270109T090000
DTSTAMP:20260421T052925
CREATED:20260401T200155Z
LAST-MODIFIED:20260407T214747Z
UID:9027-1799485200-1799485200@4peaksracing.com
SUMMARY:Scarface Mountain Trail Run
DESCRIPTION:Welcome back to the 2nd Annual Scarface Mountain Trail Run 10k\, 5k (3.35 miles)\, 1 mile fun run\, and for the first time in 2027\, the Scarface Mountain 20k!  The race is inside Usery Mountain Regional Park at the Trailhead Staging Area\, on Saturday January 9th\, 2027.  We will be donating 100% of the registration fees to charity. 50% will be going to Mesa United Way-Foster360\, and 50% will be going to the Charitable Foundation of the Rotary Club of Mesa. \nCome and experience some Wild West Arizona History.  At this location in history\, on January 5th 1892\, on these same desert trails you will be running on\, two men named King Usery and Henry Blevins hid the spoils of their robbery of the Globe-Florence Stage\, sealing the silver bars\, and burying them in King Usery’s Ranch land right here in Usery Mountain Regional Park. Some say there may still be some silver bars out on this land\, never recovered by the sheriff. \nYou will be running near Pass Mountain aka Scarface Mountain (a nicknamed given by locals for the geological cut across the face of the mountain)\, inside Usery Mountain Regional Park\, the namesake of the park is King Usery\, local rancher\, and Stagecoach Robber.  A portion of your race will be on Blevins Trail\, the namesake of this trail was King Usery’s partner in crime Henry Blevins.  If any runner happens to find and return any lost silver\, they will receive a reward!  \nPacket Pickup Friday\nJanuary 8th\nLocation TBD \nRace Website\nhttps://www.facebook.com/profile.php?id=61578125467399 \n20k Trail Run 8:50am\n$70 Early Registration ($80 after Thanksgiving) \n10k Trail Run: 9:00am\n$55 Early Registration ($65 after Thanksgiving) \n5k (3.35 miles) Trail Run: 9:10am\n$45 Early Registration ($55 after Thanksgiving) \n1-Mile fun Run: 9:15am\n$25 Early Registration ($30 after Thanksgiving) \nTop Male and Female finisher in the 20k\,10k\, 5k (3.35mile) will receive a prize\nTop 3 Male and Female finisher in the 20k\, 10k\, 5k (3.35mile) will receive a trophy\nAll runners will receive a race shirt at packet pickup \nAll finishers will receive a finisher pint glass with race logo\nAll finishers will get a finish line photo\, with option to purchase additional race photos \n2027 will be the first Cowboy Outlaw Runner Costume Contest.  In honor of the namesake of the park and trails that you run on\, and the anniversary of the Outlaws robbing of the Globe-Florence Stage\, the best Cowboy Outlaw costume by a runner will also win a prize.  Bring out your outlaws for this race!! \nCourse Records and Top 5\n5k Male\n#1- Daniel Reese (’26) – 20:12.2\n#2 – Nathan Beaty (’26) – 21:59.3\n#3 –Andrew Reese (’26) – 25:36.2\n#4 –Matthew Pallotto (’26) – 27:35.3\n#5 – Christopher Stump (’26) – 27:46.3 \n5k Female\n#1 – Samantha Larson (’26) – 28:09.6\n#2 – Stevie Bellora (’26) – 28:29.4\n#3 – Justine Wisdom (’26) – 32:02.8\n#4 – Sherin Moustafa (’26) – 35:21.9\n#5 – Kristin Mernaugh (’26) – 37:34.5 \n10k Male\n#1 – John Kropinak (’26) – 48:07.8\n#2 – Grant Alonzo (’26) – 49:05.7\n#3 – Brian Bleuer (’26) – 49:18.8\n#4 – Michael Magarinos (’26) – 51:06.1\n#5 – Gary Nicholson (’26) – 52:33.6 \n10k Female\n#1 – Josephine Smeets (’26) – 45:30.6\n#2 – Lexi Grondin (’26) – 50:09.6\n#3 – Kristin McPhie (’26) – 52:47.4\n#4 – Camryn Catillo (’26) – 52:56.2\n#5 – Lisa Raykowski (’26) – 53:55.5
URL:https://4peaksracing.com/events/scarface-mountain-trail-run-2027/
LOCATION:Usery Mountain Regional Park\, 3939 N Usery Pass Rd\, Mesa\, AZ\, 85207\, United States
CATEGORIES:Timing
ATTACH;FMTTYPE=image/png:https://4peaksracing.com/wp-content/uploads/2026/04/Scarface-2027.png
END:VEVENT
END:VCALENDAR