BEGIN:VCALENDAR
VERSION:2.0
PRODID:-//4 Peaks Racing - ECPv6.1.3//NONSGML v1.0//EN
CALSCALE:GREGORIAN
METHOD:PUBLISH
X-ORIGINAL-URL:https://4peaksracing.com
X-WR-CALDESC:Events for 4 Peaks Racing
REFRESH-INTERVAL;VALUE=DURATION:PT1H
X-Robots-Tag:noindex
X-PUBLISHED-TTL:PT1H
BEGIN:VTIMEZONE
TZID:America/Phoenix
BEGIN:STANDARD
TZOFFSETFROM:-0700
TZOFFSETTO:-0700
TZNAME:MST
DTSTART:20250101T000000
END:STANDARD
END:VTIMEZONE
BEGIN:VEVENT
DTSTART;TZID=America/Phoenix:20251206T080000
DTEND;TZID=America/Phoenix:20251206T080000
DTSTAMP:20260419T170405
CREATED:20250819T131616Z
LAST-MODIFIED:20250826T005300Z
UID:8732-1765008000-1765008000@4peaksracing.com
SUMMARY:ESTRELLA CUP
DESCRIPTION:RACE TIMING\nThis event is timed using equipment by RFID Timing Systems. \nRACE WEBSITE\n4 Peaks Racing is providing timing for this event. For event details please CLICK HERE
URL:https://4peaksracing.com/events/estrella-cup-2025/
LOCATION:AZ
CATEGORIES:Timing
ATTACH;FMTTYPE=image/jpeg:https://4peaksracing.com/wp-content/uploads/2025/08/est-cup.jpg
END:VEVENT
BEGIN:VEVENT
DTSTART;TZID=America/Phoenix:20251206T081500
DTEND;TZID=America/Phoenix:20251206T081500
DTSTAMP:20260419T170405
CREATED:20250808T225005Z
LAST-MODIFIED:20250808T225005Z
UID:8695-1765008900-1765008900@4peaksracing.com
SUMMARY:City of Yuma Running in a Winter Wonderland 5km & 10km
DESCRIPTION:Winter is coming so run into it at West Wetlands Park! \nEVENT WEBSITE\n4 Peaks Racing is providing timing for this event. For event details please CLICK HERE \nRACE TIMING\nThis race will be chip timed using disposable chip technology by RFID Timing. Timing chips are on the reverse side of your race number. Race numbers should be worn the correct way up\, pinned to the front of your shirt and worn over your belly button.
URL:https://4peaksracing.com/events/wonderland-2025/
LOCATION:West Wetlands\, 282 N 12th Ave\, Yuma\, 85364\, United States
CATEGORIES:Timing
ATTACH;FMTTYPE=image/jpeg:https://4peaksracing.com/wp-content/uploads/2024/08/yuma-parks-and-rec.jpg
END:VEVENT
END:VCALENDAR