BEGIN:VCALENDAR
VERSION:2.0
PRODID:-//4 Peaks Racing - ECPv6.1.3//NONSGML v1.0//EN
CALSCALE:GREGORIAN
METHOD:PUBLISH
X-ORIGINAL-URL:https://4peaksracing.com
X-WR-CALDESC:Events for 4 Peaks Racing
REFRESH-INTERVAL;VALUE=DURATION:PT1H
X-Robots-Tag:noindex
X-PUBLISHED-TTL:PT1H
BEGIN:VTIMEZONE
TZID:America/Phoenix
BEGIN:STANDARD
TZOFFSETFROM:-0700
TZOFFSETTO:-0700
TZNAME:MST
DTSTART:20250101T000000
END:STANDARD
END:VTIMEZONE
BEGIN:VEVENT
DTSTART;TZID=America/Phoenix:20251018T180000
DTEND;TZID=America/Phoenix:20251018T180000
DTSTAMP:20260419T085941
CREATED:20250808T223505Z
LAST-MODIFIED:20250808T224608Z
UID:8687-1760810400-1760810400@4peaksracing.com
SUMMARY:City of Yuma Glow Up October 5km
DESCRIPTION:Kick off the 2025-2026 Run Season and Glow Up the night with your Glow Sticks and Glow in the Dark accessories.  \nEVENT WEBSITE\n4 Peaks Racing is providing timing for this event. For event details please CLICK HERE \nRACE TIMING\nThis race will be chip timed using disposable chip technology by RFID Timing. Timing chips are on the reverse side of your race number. Race numbers should be worn the correct way up\, pinned to the front of your shirt and worn over your belly button.
URL:https://4peaksracing.com/events/glow-2025/
LOCATION:Desert Sun Stadium\, 1440 W Desert Hills DR\, Yuma\, AZ\, 85365\, United States
CATEGORIES:Timing
ATTACH;FMTTYPE=image/jpeg:https://4peaksracing.com/wp-content/uploads/2024/08/yuma-parks-and-rec.jpg
END:VEVENT
END:VCALENDAR