BEGIN:VCALENDAR
VERSION:2.0
PRODID:-//4 Peaks Racing - ECPv6.1.3//NONSGML v1.0//EN
CALSCALE:GREGORIAN
METHOD:PUBLISH
X-WR-CALNAME:4 Peaks Racing
X-ORIGINAL-URL:https://4peaksracing.com
X-WR-CALDESC:Events for 4 Peaks Racing
REFRESH-INTERVAL;VALUE=DURATION:PT1H
X-Robots-Tag:noindex
X-PUBLISHED-TTL:PT1H
BEGIN:VTIMEZONE
TZID:America/Phoenix
BEGIN:STANDARD
TZOFFSETFROM:-0700
TZOFFSETTO:-0700
TZNAME:MST
DTSTART:20240101T000000
END:STANDARD
END:VTIMEZONE
BEGIN:VEVENT
DTSTART;TZID=America/Phoenix:20241103T070000
DTEND;TZID=America/Phoenix:20241103T070000
DTSTAMP:20260419T083807
CREATED:20240515T210236Z
LAST-MODIFIED:20240821T130659Z
UID:8070-1730617200-1730617200@4peaksracing.com
SUMMARY:XTERRA SAN TAN
DESCRIPTION:
URL:https://4peaksracing.com/events/xterra-san-tan-2024/
LOCATION:AZ
CATEGORIES:Timing
ATTACH;FMTTYPE=image/png:https://4peaksracing.com/wp-content/uploads/2024/05/san-tan.png
END:VEVENT
BEGIN:VEVENT
DTSTART;TZID=America/Phoenix:20241109T080000
DTEND;TZID=America/Phoenix:20241109T080000
DTSTAMP:20260419T083807
CREATED:20240830T163948Z
LAST-MODIFIED:20240830T163948Z
UID:8204-1731139200-1731139200@4peaksracing.com
SUMMARY:Who's Your Hero 5km & 10km
DESCRIPTION:
URL:https://4peaksracing.com/events/hero-2024/
LOCATION:West Wetlands\, 282 N 12th Ave\, Yuma\, 85364\, United States
CATEGORIES:Timing
ATTACH;FMTTYPE=image/jpeg:https://4peaksracing.com/wp-content/uploads/2024/08/yuma-parks-and-rec.jpg
END:VEVENT
BEGIN:VEVENT
DTSTART;TZID=America/Phoenix:20241123T090000
DTEND;TZID=America/Phoenix:20241123T090000
DTSTAMP:20260419T083807
CREATED:20240806T210009Z
LAST-MODIFIED:20240924T234807Z
UID:8161-1732352400-1732352400@4peaksracing.com
SUMMARY:Earn the Bird 5km and Walk for Water4
DESCRIPTION:RACE TIMING\nThis race will be chip timed using disposable chip technology by RFID Timing. Timing chips are on race bibs and should be worn over your navel. \nRACE WEBSITE\n4 Peaks Racing is providing timing for this event. For event details please CLICK HERE
URL:https://4peaksracing.com/events/earn-the-bird-2024/
LOCATION:McDowell Church\, 10700 124th St\, Scottsdale\, AZ\, 85259\, United States
CATEGORIES:Timing
ATTACH;FMTTYPE=image/jpeg:https://4peaksracing.com/wp-content/uploads/2024/08/earn-the-brid.jpg
END:VEVENT
BEGIN:VEVENT
DTSTART;TZID=America/Phoenix:20241130T080000
DTEND;TZID=America/Phoenix:20241130T080000
DTSTAMP:20260419T083807
CREATED:20240502T225431Z
LAST-MODIFIED:20240502T225518Z
UID:8060-1732953600-1732953600@4peaksracing.com
SUMMARY:FAT TURKEY TRAIL RUN
DESCRIPTION:
URL:https://4peaksracing.com/events/fat-turkey-2024/
LOCATION:AZ
CATEGORIES:Timing
ATTACH;FMTTYPE=image/jpeg:https://4peaksracing.com/wp-content/uploads/2022/09/fat-turkey.jpg
END:VEVENT
END:VCALENDAR