BEGIN:VCALENDAR
VERSION:2.0
PRODID:-//4 Peaks Racing - ECPv6.1.3//NONSGML v1.0//EN
CALSCALE:GREGORIAN
METHOD:PUBLISH
X-WR-CALNAME:4 Peaks Racing
X-ORIGINAL-URL:https://4peaksracing.com
X-WR-CALDESC:Events for 4 Peaks Racing
REFRESH-INTERVAL;VALUE=DURATION:PT1H
X-Robots-Tag:noindex
X-PUBLISHED-TTL:PT1H
BEGIN:VTIMEZONE
TZID:America/Phoenix
BEGIN:STANDARD
TZOFFSETFROM:-0700
TZOFFSETTO:-0700
TZNAME:MST
DTSTART:20260101T000000
END:STANDARD
END:VTIMEZONE
BEGIN:VEVENT
DTSTART;TZID=America/Phoenix:20261219T080000
DTEND;TZID=America/Phoenix:20261219T080000
DTSTAMP:20260419T202808
CREATED:20260406T150242Z
LAST-MODIFIED:20260406T170949Z
UID:9035-1797667200-1797667200@4peaksracing.com
SUMMARY:Avondazzle Dash 1K\, 5K & 10K
DESCRIPTION:Bring your holiday cheer and favorite winter costume to this new 1K\, 5K & 10K run through the holiday lights at Avondale’s Civic Center Complex. Embrace the festive spirit with a fun and active holiday tradition before dashing inside for the holidays. \nRACE TIMING\nThis race will be chip timed using disposable chip technology by RFID Timing. Timing chips are on race bibs and should be worn over your navel. \nRACE WEBSITE\n4 Peaks Racing is providing race logistics and timing for this event. For event details please CLICK HERE
URL:https://4peaksracing.com/events/avondazzle-2026/
LOCATION:Avondale Civic Center Complex\, 11465 West Civic Center Drive\, Avondale\, AZ\, 85323\, United States
CATEGORIES:All Events,Running
ATTACH;FMTTYPE=image/png:https://4peaksracing.com/wp-content/uploads/2024/06/azondazzle.png
END:VEVENT
END:VCALENDAR