BEGIN:VCALENDAR
VERSION:2.0
PRODID:-//4 Peaks Racing - ECPv6.1.3//NONSGML v1.0//EN
CALSCALE:GREGORIAN
METHOD:PUBLISH
X-WR-CALNAME:4 Peaks Racing
X-ORIGINAL-URL:https://4peaksracing.com
X-WR-CALDESC:Events for 4 Peaks Racing
REFRESH-INTERVAL;VALUE=DURATION:PT1H
X-Robots-Tag:noindex
X-PUBLISHED-TTL:PT1H
BEGIN:VTIMEZONE
TZID:America/Phoenix
BEGIN:STANDARD
TZOFFSETFROM:-0700
TZOFFSETTO:-0700
TZNAME:MST
DTSTART:20250101T000000
END:STANDARD
END:VTIMEZONE
BEGIN:VEVENT
DTSTART;TZID=America/Phoenix:20251227T090000
DTEND;TZID=America/Phoenix:20251227T090000
DTSTAMP:20260421T230312
CREATED:20250317T225519Z
LAST-MODIFIED:20250413T151917Z
UID:8566-1766826000-1766826000@4peaksracing.com
SUMMARY:The Grit Like CJ 5K
DESCRIPTION:CLICK HERE to Learn More and Visit CJ’s website \nLOCATION\nRio Vista Community Park\n8866 W Thunderbird Rd.\nPeoria AZ 85381 \nROUTES\n5km\n \n1 Mile\n \nCOST\n$30 prior to October 31 at 11:59 p.m.\n$35 prior to November 30 at 11:59 p.m.\n$40 prior to December 21 at 11:59 p.m.\n$45 prior to December 26 6:00 p.m.\n$50 Race day registration \nRace entry includes a t-shirt \nSCHEDULE\nTUESDAY DECEMBER 23\nConfirmation email sent to all participants \nSATURDAY DECEMBER 27\n8:00 a.m. Packet pick up at Rio Vista Community Park\n9:00 a.m. 5km begins\n9:05 a.m. 1 Mile Walk begins \nRACE TIMING\nThis race will be chip timed using disposable chip technology by RFID Timing. Timing chips are on the reverse side of your race number. Race numbers should be worn the correct way up\, pinned to the front of your shirt and worn over your belly button.
URL:https://4peaksracing.com/events/grit-like-cj-2025/
LOCATION:Rio Vista Park\, 8866 W Thunderbird Rd\, Peoria\, AZ\, 85381
CATEGORIES:All Events,Running
ATTACH;FMTTYPE=image/jpeg:https://4peaksracing.com/wp-content/uploads/2025/03/Logo14300dpi.jpg
END:VEVENT
END:VCALENDAR