BEGIN:VCALENDAR
VERSION:2.0
PRODID:-//4 Peaks Racing - ECPv6.1.3//NONSGML v1.0//EN
CALSCALE:GREGORIAN
METHOD:PUBLISH
X-WR-CALNAME:4 Peaks Racing
X-ORIGINAL-URL:https://4peaksracing.com
X-WR-CALDESC:Events for 4 Peaks Racing
REFRESH-INTERVAL;VALUE=DURATION:PT1H
X-Robots-Tag:noindex
X-PUBLISHED-TTL:PT1H
BEGIN:VTIMEZONE
TZID:America/Phoenix
BEGIN:STANDARD
TZOFFSETFROM:-0700
TZOFFSETTO:-0700
TZNAME:MST
DTSTART:20260101T000000
END:STANDARD
END:VTIMEZONE
BEGIN:VEVENT
DTSTART;TZID=America/Phoenix:20260307T073000
DTEND;TZID=America/Phoenix:20260307T073000
DTSTAMP:20260419T133914
CREATED:20250813T221701Z
LAST-MODIFIED:20260418T152632Z
UID:8711-1772868600-1772868600@4peaksracing.com
SUMMARY:THE NUN RUN
DESCRIPTION:NUN RUN MAIL IN REGISTRATION FORM \nPOOR CLARES\nRemember to stop by the Poor Clare booth to say “hi’ to the nuns and get entered in the raffle \nDONATIONS\nCan’t make it to run but would still like to make a difference? CLICK HERE to make a donation to the sisters \nLOCATION\nKiwanis Park\nNorth Soccer Field\n101 W. Baseline Rd\nTempe AZ 85283 \nROUTES\n10km = 2 loops\n \n5km = 1 loop\n \n1 Mile = 1 loop\n \nCOST\n$30 prior to November 30th at 11:59 p.m.\n$35 prior to December 31st at 11:59 p.m.\n$40 prior to January 31st at 11:59 p.m.\n$45 prior to February 22nd at 11:59 p.m.\n$50 prior to March 6th at 6:00 p.m.\n$55 Race Day Registration \nChildren 18 and under are $15 when registering BEFORE Race Day and $30 if registering on race day \nSCHEDULE\nTHURSDAY MARCH 5\nConfirmation email sent to all participants. If you do not receive it please check your spam folder \nSATURDAY MARCH 7\n6:00 a.m. Packet pick up (race number\, timing chip and shirt) and race day registration at Kiwanis Park\n7:30 a.m. 10km begins\n8:00 a.m. 5km begins\n8:05 a.m. 1 Mile Walk begins\n8:20 a.m. No new 10km laps\n8:45 a.m. 10km awards presentation\n9:00 a.m. 5km awards presentation \nIf you are arriving after 7:30 a.m. please be mindful that the 10km has already started. \nTSHIRT ONLY OPTION\nWant to support The Nun Run but can’t make it to Kiwanis Park? Purchase a shirt to wear with pride in your community. Shirts will be mailed the week of March 9th. \nRACE TIMING\nThis race will be chip timed using disposable chip technology by RFID Timing. Timing chips are on the reverse side of your race number. Race numbers should be worn the correct way up\, pinned to the front of your shirt and worn over your belly button.  \n5K AWARDS\nTop 3 male and female overall\nAge group awards will be awarded to the top 3 male and female finishers per the following age groups:\n0-4\n5-6\n7-8\n9-10\n11-12\n13-14\n15-19\n20-29\n30-39\n40-49\n50-59\n60-69\n70-79\n80-89\n90+ \n10K AWARDS\nTop 3 male and female overall\nAge group awards will be awarded to the top 3 male and female finishers per the following age groups:\n10-14\n15-19\n20-29\n30-39\n40-49\n50-59\n60-69\n70-79\n80-89\n90+
URL:https://4peaksracing.com/events/the-nun-run-2026/
LOCATION:Kiwanis Park North Field\, 5233 S Ash Ave\, Tempe\, AZ\, 85283\, United States
CATEGORIES:All Events,Running
ATTACH;FMTTYPE=image/jpeg:https://4peaksracing.com/wp-content/uploads/2023/08/Nun-banner.jpg
END:VEVENT
BEGIN:VEVENT
DTSTART;TZID=America/Phoenix:20260308T090000
DTEND;TZID=America/Phoenix:20260308T090000
DTSTAMP:20260419T133914
CREATED:20251112T185329Z
LAST-MODIFIED:20251205T231650Z
UID:8891-1772960400-1772960400@4peaksracing.com
SUMMARY:Run for Autism
DESCRIPTION:For race details please visit – https://azaunited.org/events/runforautism
URL:https://4peaksracing.com/events/run-for-autism-2026/
LOCATION:Kiwanis Park North Field\, 5233 S Ash Ave\, Tempe\, AZ\, 85283\, United States
CATEGORIES:All Events,Running
ATTACH;FMTTYPE=image/jpeg:https://4peaksracing.com/wp-content/uploads/2025/11/16494_6455.jpg
END:VEVENT
BEGIN:VEVENT
DTSTART;TZID=America/Phoenix:20260321T080000
DTEND;TZID=America/Phoenix:20260321T080000
DTSTAMP:20260419T133914
CREATED:20250902T231016Z
LAST-MODIFIED:20250902T231722Z
UID:8764-1774080000-1774080000@4peaksracing.com
SUMMARY:HOOT N HUSTLE
DESCRIPTION:Runners go “owl out” at this 5K fun run through Old Town Avondale and Agua Fria High School’s campus! Runners will enjoy warm-ups with Hootie the Owl\, encouragement from AFHS Clubs and Sports Teams\, and a Finish-Line Block Party that is sure to cause a hoot! \nRACE TIMING\nThis race will be chip timed using disposable chip technology by RFID Timing. Timing chips are on race bibs and should be worn over your navel. \nRACE WEBSITE\n4 Peaks Racing is providing race logistics and timing for this event. For event details please CLICK HERE
URL:https://4peaksracing.com/events/hoot-n-hustle-2026/
LOCATION:Agua Fria High School\, 530 E Riley Dr\, Avondale\, AZ\, 85323\, United States
CATEGORIES:All Events,Running
ATTACH;FMTTYPE=image/jpeg:https://4peaksracing.com/wp-content/uploads/2025/09/Hoot-n-Hustle-web-banner.jpg
END:VEVENT
END:VCALENDAR