BEGIN:VCALENDAR
VERSION:2.0
PRODID:-//4 Peaks Racing - ECPv6.1.3//NONSGML v1.0//EN
CALSCALE:GREGORIAN
METHOD:PUBLISH
X-WR-CALNAME:4 Peaks Racing
X-ORIGINAL-URL:https://4peaksracing.com
X-WR-CALDESC:Events for 4 Peaks Racing
REFRESH-INTERVAL;VALUE=DURATION:PT1H
X-Robots-Tag:noindex
X-PUBLISHED-TTL:PT1H
BEGIN:VTIMEZONE
TZID:America/Phoenix
BEGIN:STANDARD
TZOFFSETFROM:-0700
TZOFFSETTO:-0700
TZNAME:MST
DTSTART:20220101T000000
END:STANDARD
END:VTIMEZONE
BEGIN:VEVENT
DTSTART;TZID=America/Phoenix:20221124T083000
DTEND;TZID=America/Phoenix:20221124T083000
DTSTAMP:20260419T152109
CREATED:20221111T214623Z
LAST-MODIFIED:20221114T163751Z
UID:7038-1669278600-1669278600@4peaksracing.com
SUMMARY:ANTHEM TURKEY TROT   Presented by CCV Stars
DESCRIPTION:DISTANCES\n10km Run\n5km Run/Walk\n1/2 Mile Kid’s Dash \nCHARITY\nPlease consider bringing a non-perishable food item for The St. Rose Food Pantry. All participants that donate will go in the draw for some great raffle prizes from our sponsors. \nRACER AMENITIES\nFinisher medals to all 5km and 10km participants\nPost-race refreshments\nAwards for overall and age group winners\nTurkey Trot socks by Sockguy \nCOST\n5km\n$30 Prior to 11:59 p.m. August 31\n$35 Prior to 11:59 p.m. September 30\n$40 Prior to 11:59 p.m. November 10\n$45 Prior to 11:59 p.m. November 23\n$55 Race day registration (includes sales tax) \n10km\n$40 Prior to 11:59 p.m. August 31\n$45 Prior to 11:59 p.m. September 30\n$50 Prior to 11:59 p.m. November 10\n$55 Prior to 11:59 p.m. November 23\n$65 Race day registration (includes sales tax) \n18 & Under 5km\n$30 Prior to 11:59 p.m. September 30\n$35 Prior to 11:59 p.m. November 10\n$40 Prior to 11:59 p.m. November 23\n$50 Race day registration (includes sales tax) \n18 & Under 10km\n$40 Prior to 11:59 p.m. September 30\n$45 Prior to 11:59 p.m. November 10\n$50 Prior to 11:59 p.m. November 23\n$60 Race day registration (includes sales tax) \nAll registrations are final. We do not offer refunds\, credits or transfers. There is an option during check out on Active to purchase event insurance. If there is a chance you may not be able to attend we recommend this option \nCOURSE\n \n \nSITE MAP\n \nKID’S DASH\nThe kid’s dash is a free non timed 1/2 mile run. Pre registering your child online is $15 and includes a Turkey Trot beanie. To run at no charge simply sign up your child race morning. \n \nSCHEDULE\nWEDNESDAY NOVEMBER 23\n10 a.m. – 2:00 p.m. Packet pickup at Tortoise & Hare Sports\n17550 North 75th Avenue #605\nGlendale AZ 85308 \nTHURSDAY NOVEMBER 24\n7:00 a.m. Packet pick up and late registration opens at the Anthem Community Center\n8:30 a.m. 10km Run begins\n8:35 a.m. 5km Run begins\n9:45 a.m. 5km & 10km awards presentation and raffle\n10:00 a.m. Kids dash begins \nRACE TIMING\nThis race will be chip timed using disposable chip technology by RFID Timing. Timing chips are on the reverse side of your race number. Race numbers should be worn the correct way up\, pinned to the front of your shirt and worn over your belly button. Results will be available online \nPARKING\nParking is available at the Anthem Community Center\n41130 North Freedom Way\nAnthem AZ 85086\nThe lot in the community center will fill up. Additional parking is also available at:\n1) The Anthem Community Park (access from Gavillan Peak Parkway between Anthem Way & Whitman and walk across the bridge to the community center)\n2) Surface street parking on Whitman between Gavillan Peak Parkway and Freedom Way \nAWARDS\n5km RUN/WALK\nTop 3 male and female overall\nAge group awards will be awarded to the top 3 male and female finishers per the following age groups:\n5/6\n7/8\n9/10\n11/12\n13/14\n15-19\n20-29\n30-39\n40-49\n50-59\n60-69\n70-79\n80+ \n10km RUN\nTop 3 male and female overall\nAge group awards will be awarded to the top 3 male and female finishers per the following age groups:\n10-14\n15-19\n20-29\n30-39\n40-49\n50-59\n60-69\n70-79\n80+ \nVOLUNTEER\nIf you are interested in volunteering for this or any other event please contact volunteer@4peaksracing.com \nSPONSORSHIP\nFor information on sponsorship and having a booth at this event please contact sponsorship@4peaksracing.com
URL:https://4peaksracing.com/events/anthem-turkey-trot-2022/
LOCATION:Anthem Community Center\, 41130 N Freedom Way\, Anthem\, AZ\, 85086\, United States
CATEGORIES:All Events,Featured,Running,Signature
ATTACH;FMTTYPE=image/jpeg:https://4peaksracing.com/wp-content/uploads/2020/12/turkey-website.jpg
END:VEVENT
END:VCALENDAR