BEGIN:VCALENDAR
VERSION:2.0
PRODID:-//4 Peaks Racing - ECPv6.1.3//NONSGML v1.0//EN
CALSCALE:GREGORIAN
METHOD:PUBLISH
X-ORIGINAL-URL:https://4peaksracing.com
X-WR-CALDESC:Events for 4 Peaks Racing
REFRESH-INTERVAL;VALUE=DURATION:PT1H
X-Robots-Tag:noindex
X-PUBLISHED-TTL:PT1H
BEGIN:VTIMEZONE
TZID:America/Phoenix
BEGIN:STANDARD
TZOFFSETFROM:-0700
TZOFFSETTO:-0700
TZNAME:MST
DTSTART:20230101T000000
END:STANDARD
END:VTIMEZONE
BEGIN:VEVENT
DTSTART;TZID=America/Phoenix:20230311T084500
DTEND;TZID=America/Phoenix:20230311T084500
DTSTAMP:20260419T072009
CREATED:20221129T175002Z
LAST-MODIFIED:20230307T211322Z
UID:7116-1678524300-1678524300@4peaksracing.com
SUMMARY:TRI 4 THE CURE AZSprint & Super Sprint Triathlon\, Aquabike\, Duathlon & 5km
DESCRIPTION:UPDATE 3/6/23 @ 10:45amWe are very much looking forward to March 11 and Tri 4 the Cure. Due to an event at the Anthem School\, and safety concerns arising from their vendors unloading at 8am\, we have decided to push the start time back an hour. \n​Thank you for your understanding and cooperation as we ensure the safety of our athletes. \nParking capacity at the community center will be reduced. Please use Anthem Community Park and walk over the bridge to the community center by copy and pasting GPS coordinates to your phone: \n33.858955469073905\, -112.13539172479148 \n \nUPDATED SCHEDULE7:30 a.m. Transition opens7:30 a.m. – 10:00 a.m. Packet pick up at The Anthem Community Center.8:45 a.m. Sprint distance triathletes that anticipate taking more than 2 hours to complete the course8:50 a.m. 5km Run Start8:55 a.m. Sprint and super sprint duathlon start9:00 a.m. Men’s triathlon and aquabike swim start (fastest to slowest)9:30 a.m. Women’s triathlon\, relays and aquabike swim start (fastest to slowest)10:00 a.m. ALL super sprint triathlon\, super sprint aquabike and super sprint relay swim start \nAWARDS SCHEDULE9:45 a.m. 5km Awards (Top 3 men and women)10:30 a.m. Men’s sprint triathlon\, aquabike and duathlons11:00 a.m. Women’s sprint triathlon\, relay and aquabike11:15 a.m. Super sprint triathlon and aquabike \nCHARITYTri for the Cure AZ is very excited to have our fundraising in 2022 going to Don’t be a Chump! Check for a Lump! In 2009\, at the young age of 39\, Holly Rose was diagnosed with breast cancer and she decided she wanted to help other women going through the same journey to fight!!Check them out at https://www.checkforalump.orgThe Don’t be a Chump! Check for a Lump! mission is to make a difference in the fight against breast cancer through education\, prevention\, and direct assistance with free wigs and mammograms. As of 2018 they have assisted over 1222 women with a custom wig.Please join us in welcoming Don’t be a Chump! Check for a Lump! and Holly’s team to our T4C crew \nDISTANCESSprint TriathlonSwim 400m pool swimBike 20km (3 loops)Run 5km \nSuper Sprint TriathlonSwim 200m pool swimBike 12km (2 loops)Run 2km \nSprint Triathlon RelaySwim 400m pool swimBike 20km (3 loops)Run 5km \nSuper Sprint Triathlon RelaySwim 200m pool swimBike 12km (2 loops)Run 2km \nSprint AquabikeSwim 400m pool swimBike 20km (3 loops) \nSuper Sprint AquabikeSwim 200m pool swimBike 12km (2 loops) \nSprint DuathlonRun 2kmBike 20km (3 loops)Run 5km \nSuper Sprint DuathlonRun 2kmBike 12km (2 loops)Run 2km \nCOSTSprint Triathlon\, Aquabike & DuathlonEarly-bird Registration: to November 30 – $85Registration: December 1 to 31 – $95On Time Registration: January 1 to 31 – $105Late Registration: February 1 to 28 – $115Just in Time: March 1 to 11 – $125 \nSuper Sprint Triathlon\, Aquabike & DuathlonEarly-bird Registration: to November 30 – $65Registration: December 1 to 31 – $75On Time Registration: January 1 to 31 – $85Late Registration: February 1 to 28 – $95Just in Time: March 1 to 11 – $105 \nSprint Triathlon RelayEarly-bird Registration: to November 30 – $185Registration: December 1 to 31 – $195On Time Registration: January 1 to 31 – $205Late Registration: February 1 to 28 – $215Just in Time: March 1 to 11 – $225 \nSuper Sprint Triathlon RelayEarly-bird Registration: to November 30 – $165Registration: December 1 to 31 – $175On Time Registration: January 1 to 31 – $185Late Registration: February 1 to 28 – $195Just in Time: March 1 to 11 – $205 \n5km RunEarly-bird Registration: to November 30 – $30Registration: December 1 to 31 – $35On Time Registration: January 1 to 31 – $40Late Registration: February 1 to 28 – $45Just in Time: March 1 to 11 – $50 \nAQUA BIKEAqua Bike athletes complete the swim and bike only. Final time will be calculated at BIKE IN. Once you have finished please make your way to the finish line at your leisure to collect your medal\, grab a drink and return your timing chip. \nRACER AMENITIESSocks by SockguyFinisher medals for all participantsPost-race refreshmentsAge group awards \nSCHEDULEThursday\, March 9Optional early packet pickup at Sole Sports Arcadia2:00 p.m. – 6:00 p.m. \n4730 E Indian School RdSuite 125Phoenix AZ 85018 \n*Photo ID and USAT card required for pick up for Tri/Du/Aquabike. USAT card not required for 5k. \nOnly the registered athlete can pick up his/her packet for the Triathlon\, Duathlon and Aquabike. You cannot pick up packets for others. Anyone can pick up your 5k race packet \nCOURSEPlease do not use the main community entrance to access the pool. When you are called to the pool please proceed through the south gate. \nSwimEach athlete will be started one at a time with a 15 second gap. Enter the pool feet first. No diving! Up lane 1\, under the lane lines\, down lane 2\, under the lane lines\, up lane 3\, etc. On completing the 8 lanes in the pool you will have done 200 meters. and will need to return to the swim start for a second loop. As you reenter the pool the starter will give you the right of way over athletes waiting to start. \n \nBikeTwo loops for Super SprintThree loops for Sprint \n \nRun \n \nTIMINGThis event will be chip timed by 4 Peaks Racing using triathlon chips. Lost or unreturned chips will be charged to the athlete. Chips should be worn on your left ankle and must be returned at the finish. \nDIRECTIONS & PARKINGTake I-17 to Anthem Way (5 miles North of Carefree Highway). Exit east onto Anthem Way. Proceed straight through two sets of lights to Freedom Way. Turn right onto Freedom and into the Anthem Community Center parking lot.41130 N Freedom WayAnthem AZ 85086Parking is also available at:The Anthem Community Park (access from Gavillan Peak Parkway between Anthem Way & Whitman and walk across the bridge to the community center) \nSPRINT TRIATHLON AWARDSOverall awards will be given to the top three male and female finishers in the sprint triathlon. Age group awards will be awarded to the top three male and female finishers per the following age groups:10-1415-1920-2425-2930-3435-3940-4445-4950-5455-5960-6465-6970-7475-7980+Awards will also be given to the top three finishers in the following categories:Clydesdales (Men 220 +lbs.)Athena’s (Women 165+ lbs.) \nRELAY AWARDS \nFirst place finishers in male\, female and coed will receive awards \nSUPER-SPRINT TRIATHLON\, DUATHLONS\, AQUA-BIKES & 5km AWARDSOverall awards will be given to the top three male and female finishers
URL:https://4peaksracing.com/events/tri-4-the-cure-2023/
LOCATION:Anthem Community Center\, 41130 N Freedom Way\, Anthem\, AZ\, 85086\, United States
CATEGORIES:All Events,Featured,Multisport
ATTACH;FMTTYPE=image/png:https://4peaksracing.com/wp-content/uploads/2021/03/16494_6233.png
END:VEVENT
END:VCALENDAR