BEGIN:VCALENDAR
VERSION:2.0
PRODID:-//4 Peaks Racing - ECPv6.1.3//NONSGML v1.0//EN
CALSCALE:GREGORIAN
METHOD:PUBLISH
X-ORIGINAL-URL:https://4peaksracing.com
X-WR-CALDESC:Events for 4 Peaks Racing
REFRESH-INTERVAL;VALUE=DURATION:PT1H
X-Robots-Tag:noindex
X-PUBLISHED-TTL:PT1H
BEGIN:VTIMEZONE
TZID:America/Phoenix
BEGIN:STANDARD
TZOFFSETFROM:-0700
TZOFFSETTO:-0700
TZNAME:MST
DTSTART:20250101T000000
END:STANDARD
END:VTIMEZONE
BEGIN:VEVENT
DTSTART;TZID=America/Phoenix:20251129T083000
DTEND;TZID=America/Phoenix:20251129T083000
DTSTAMP:20260419T220150
CREATED:20250325T001858Z
LAST-MODIFIED:20250325T002125Z
UID:8577-1764405000-1764405000@4peaksracing.com
SUMMARY:RUCK 4 FREEDOM
DESCRIPTION:RACE TIMING\nThis race will be chip timed using disposable chip technology by RFID Timing. Timing chips are on race bibs and should be worn over your navel. \nRACE WEBSITE\n4 Peaks Racing is providing timing for this event. For event details please CLICK HERE
URL:https://4peaksracing.com/events/ruck-4-freedom-2025/
LOCATION:Horseshoe Park\, 20464 E Riggs Rd\, Queen Creek\, AZ\, 85142\, United States
CATEGORIES:Timing
ATTACH;FMTTYPE=image/png:https://4peaksracing.com/wp-content/uploads/2025/03/bhu22wgx59zu3fru._original.png
END:VEVENT
END:VCALENDAR