BEGIN:VCALENDAR
VERSION:2.0
PRODID:-//4 Peaks Racing - ECPv6.1.3//NONSGML v1.0//EN
CALSCALE:GREGORIAN
METHOD:PUBLISH
X-ORIGINAL-URL:https://4peaksracing.com
X-WR-CALDESC:Events for 4 Peaks Racing
REFRESH-INTERVAL;VALUE=DURATION:PT1H
X-Robots-Tag:noindex
X-PUBLISHED-TTL:PT1H
BEGIN:VTIMEZONE
TZID:America/Phoenix
BEGIN:STANDARD
TZOFFSETFROM:-0700
TZOFFSETTO:-0700
TZNAME:MST
DTSTART:20250101T000000
END:STANDARD
END:VTIMEZONE
BEGIN:VEVENT
DTSTART;TZID=America/Phoenix:20251122T090000
DTEND;TZID=America/Phoenix:20251122T090000
DTSTAMP:20260419T222234
CREATED:20250906T163152Z
LAST-MODIFIED:20250906T163542Z
UID:8771-1763802000-1763802000@4peaksracing.com
SUMMARY:EARN THE BIRD
DESCRIPTION:RACE TIMING\nThis race will be chip timed using disposable chip technology by RFID Timing. Timing chips are on race bibs and should be worn over your navel. \nRACE WEBSITE\n4 Peaks Racing is providing timing for this event. For event details please CLICK HERE
URL:https://4peaksracing.com/events/earn-the-bird-2025/
LOCATION:McDowell Church\, 10700 124th St\, Scottsdale\, AZ\, 85259\, United States
CATEGORIES:Timing
ATTACH;FMTTYPE=image/jpeg:https://4peaksracing.com/wp-content/uploads/2024/08/earn-the-brid.jpg
END:VEVENT
END:VCALENDAR